BEGIN:VCALENDAR
VERSION:2.0
PRODID:-//hacksw/handcal//NONSGML v1.0//EN
BEGIN:VEVENT
SUMMARY:Recensement des benevoles - meeting Valentin Labalette 2026
UID:fb654a61-81fc-487e-a678-6e0d41fd43ee
DTSTART:20260531T220000Z
DTEND:20260601T214500Z
LOCATION:Localisation   
CATEGORIES:Manifestation
STATUS:
DESCRIPTION:<p>Le 13 juin 2026, nous organiserons le 11eme Meeting
 Valentin Labalette qui sera de nouveau support du Championnat
 Regional Piste FSGT pour les jeunes</p>
 
 <p>Pour la reussite de cet
 evenement a la hauteur des precedents, nous avons encore besoin des
 forces vives de la CO TRITH Athletisme</p>
 
 <p>Merci donc de repondre
 a ce questionnaire nous permettant de mettre en place
 l'organisation</p>
 
 <p>Le Comite de la CO TRITH Athletisme</p>
URL;VALUE=URI:https://www.cotrithathletisme.com/evenements/2026/06/01/recensement-des-benevoles-meeting-valentin-labalette-2026-2443228
END:VEVENT
END:VCALENDAR
