BEGIN:VCALENDAR
VERSION:2.0
PRODID:-//hacksw/handcal//NONSGML v1.0//EN
BEGIN:VEVENT
SUMMARY:10eme KID ATHLON Patrick DERUELLE - ESCAUDAIN
UID:ff0a99ea-467f-41e9-8f4c-2e5e058dc0ba
DTSTART:20260516T120000Z
DTEND:20260516T153000Z
LOCATION:Localisation   ESCAUDAIN
CATEGORIES:Sportif
STATUS:
DESCRIPTION:<p>14H30 SPRINT F : Minipouss - Moustique - Poussine -
 Benjamine<br />
 14H45 SPRINT M : Minipouss - Moustique - Poussin -
 Benjamin<br />
 14H50 LANCERS F : Minipouss - Moustique - Poussine -
 Benjamine<br />
                                    
  Vortex        Vortex         Poids 1kg Poids 2kg<br
 />
 15H50 LANCERS M : Minipouss - Moustique - Poussin - Benjamin<br
 />
                                      
  Vortex        Vortex      Poids 2kg  Poids 3kg<br />
 15H50
 SAUT EN LONGUEUR F : Minipouss - Moustique - Poussine - Benjamine<br
 />
 16H00 SAUT EN LONGUEUR M: Minipouss - Moustique - Poussin -
 Benjamin<br />
 17H00 Remise des recompenses :<br />
 1 trophee au
 meilleur(e) sprinteur, lanceur, sauteur de chaque categorie<br />
 Une
 medaille + gouter + 1 boisson pour chaque participant(e)</p>
URL;VALUE=URI:https://www.cotrithathletisme.com/evenements/2026/05/16/10eme-kid-athlon-patrick-deruelle-escaudain-2443253
END:VEVENT
END:VCALENDAR
